BEGIN:VCALENDAR
VERSION:2.0
PRODID:-//Kalamazoo Poetry Festival - ECPv6.15.17.1//NONSGML v1.0//EN
CALSCALE:GREGORIAN
METHOD:PUBLISH
X-WR-CALNAME:Kalamazoo Poetry Festival
X-ORIGINAL-URL:https://kalamazoopoetryfestival.com
X-WR-CALDESC:Events for Kalamazoo Poetry Festival
REFRESH-INTERVAL;VALUE=DURATION:PT1H
X-Robots-Tag:noindex
X-PUBLISHED-TTL:PT1H
BEGIN:VTIMEZONE
TZID:America/Detroit
BEGIN:DAYLIGHT
TZOFFSETFROM:-0500
TZOFFSETTO:-0400
TZNAME:EDT
DTSTART:20230312T070000
END:DAYLIGHT
BEGIN:STANDARD
TZOFFSETFROM:-0400
TZOFFSETTO:-0500
TZNAME:EST
DTSTART:20231105T060000
END:STANDARD
BEGIN:DAYLIGHT
TZOFFSETFROM:-0500
TZOFFSETTO:-0400
TZNAME:EDT
DTSTART:20240310T070000
END:DAYLIGHT
BEGIN:STANDARD
TZOFFSETFROM:-0400
TZOFFSETTO:-0500
TZNAME:EST
DTSTART:20241103T060000
END:STANDARD
BEGIN:DAYLIGHT
TZOFFSETFROM:-0500
TZOFFSETTO:-0400
TZNAME:EDT
DTSTART:20250309T070000
END:DAYLIGHT
BEGIN:STANDARD
TZOFFSETFROM:-0400
TZOFFSETTO:-0500
TZNAME:EST
DTSTART:20251102T060000
END:STANDARD
END:VTIMEZONE
BEGIN:VEVENT
DTSTART;TZID=America/Detroit:20241108T183000
DTEND;TZID=America/Detroit:20241108T200000
DTSTAMP:20260422T154657
CREATED:20240924T175754Z
LAST-MODIFIED:20241028T151754Z
UID:2548-1731090600-1731096000@kalamazoopoetryfestival.com
SUMMARY:Workshop: Susan Blackwell Ramsey- There’s More Where That Came From: An Enthusiastic Approach to Revision
DESCRIPTION:FREE Tickets are first come first serve\, they can be reserved here: https://www.eventbrite.com/e/1042507507017?aff=oddtdtcreator  \nFacilitator: \nSusan Blackwell Ramsey \nWorkshop Description: \nThere’s nothing greater than the feeling of having finished a poem\, yet we’re often disappointed on rereading it. This workshop argues that this moment is where the real fun begins\, that we should be grateful for first drafts because they provide us with the raw materials for exploration and discovery. Using approaches from detailed checklists and major surgery and recombination\, participants will have a chance to experience approaches to revision wildly different from the notion of “fixing” the poem. \nThe facilitator asks that each participant bring a “dead poem”\, or a poem that has been left behind. \nNote: This is an in-person workshop. Writing utensils and paper will be provided. Water and Coffee will also be available at the event. Please arrive several minutes early\, so the workshop can start promptly on time. \nAccessibility: \n– This even strives to be SCENT-FREE. Please consider leaving perfumes and fragrances at home. \n 
URL:https://kalamazoopoetryfestival.com/event/workshop/
LOCATION:First Congregational Church\, 345 W Michigan Ave\, Kalamazoo\, MI\, 49007\, United States
ATTACH;FMTTYPE=image/jpeg:https://kalamazoopoetryfestival.com/wp-content/uploads/2024/09/susan.jpg
END:VEVENT
END:VCALENDAR