BEGIN:VCALENDAR
VERSION:2.0
PRODID:-//Kalamazoo Poetry Festival - ECPv6.15.17.1//NONSGML v1.0//EN
CALSCALE:GREGORIAN
METHOD:PUBLISH
X-ORIGINAL-URL:https://kalamazoopoetryfestival.com
X-WR-CALDESC:Events for Kalamazoo Poetry Festival
REFRESH-INTERVAL;VALUE=DURATION:PT1H
X-Robots-Tag:noindex
X-PUBLISHED-TTL:PT1H
BEGIN:VTIMEZONE
TZID:America/Detroit
BEGIN:DAYLIGHT
TZOFFSETFROM:-0500
TZOFFSETTO:-0400
TZNAME:EDT
DTSTART:20240310T070000
END:DAYLIGHT
BEGIN:STANDARD
TZOFFSETFROM:-0400
TZOFFSETTO:-0500
TZNAME:EST
DTSTART:20241103T060000
END:STANDARD
BEGIN:DAYLIGHT
TZOFFSETFROM:-0500
TZOFFSETTO:-0400
TZNAME:EDT
DTSTART:20250309T070000
END:DAYLIGHT
BEGIN:STANDARD
TZOFFSETFROM:-0400
TZOFFSETTO:-0500
TZNAME:EST
DTSTART:20251102T060000
END:STANDARD
BEGIN:DAYLIGHT
TZOFFSETFROM:-0500
TZOFFSETTO:-0400
TZNAME:EDT
DTSTART:20260308T070000
END:DAYLIGHT
BEGIN:STANDARD
TZOFFSETFROM:-0400
TZOFFSETTO:-0500
TZNAME:EST
DTSTART:20261101T060000
END:STANDARD
END:VTIMEZONE
BEGIN:VEVENT
DTSTART;TZID=America/Detroit:20250828T180000
DTEND;TZID=America/Detroit:20250828T200000
DTSTAMP:20260422T022340
CREATED:20250827T152007Z
LAST-MODIFIED:20250827T154047Z
UID:2930-1756404000-1756411200@kalamazoopoetryfestival.com
SUMMARY:KIA Summer Jams
DESCRIPTION:Looking for a space to share your music\, poetry\, or spoken word? Or just want to enjoy a night of local talent\, creativity\, and community? Summer Jams is a three-part summer series at the Kalamazoo Institute of Arts (KIA)\, designed to bring people together through live performances and artistic expression. \nEach night will feature a rotating lineup of independent artists\, emerging musicians\, and spoken word performers\, showcasing the diverse rhythms\, genres\, and voices that shape our community. Whether you’re stepping up to the mic or simply here to enjoy the show\, this is a space to connect\, inspire\, and celebrate creativity.
URL:https://kalamazoopoetryfestival.com/event/kia-summer-jams/
LOCATION:Kalamazoo Institute of the Arts\, 314 S Park St\, Kalamazoo\, MI\, 49007-5007\, United States
ATTACH;FMTTYPE=image/jpeg:https://kalamazoopoetryfestival.com/wp-content/uploads/2025/08/Summer-Jams-Open-Mic-Open-Mic-Collaboration-Featured-Reader-Elizabeth-Bullmer.jpg
END:VEVENT
END:VCALENDAR