BEGIN:VCALENDAR
VERSION:2.0
PRODID:-//Kalamazoo Poetry Festival - ECPv6.15.17.1//NONSGML v1.0//EN
CALSCALE:GREGORIAN
METHOD:PUBLISH
X-ORIGINAL-URL:https://kalamazoopoetryfestival.com
X-WR-CALDESC:Events for Kalamazoo Poetry Festival
REFRESH-INTERVAL;VALUE=DURATION:PT1H
X-Robots-Tag:noindex
X-PUBLISHED-TTL:PT1H
BEGIN:VTIMEZONE
TZID:America/Detroit
BEGIN:DAYLIGHT
TZOFFSETFROM:-0500
TZOFFSETTO:-0400
TZNAME:EDT
DTSTART:20240310T070000
END:DAYLIGHT
BEGIN:STANDARD
TZOFFSETFROM:-0400
TZOFFSETTO:-0500
TZNAME:EST
DTSTART:20241103T060000
END:STANDARD
BEGIN:DAYLIGHT
TZOFFSETFROM:-0500
TZOFFSETTO:-0400
TZNAME:EDT
DTSTART:20250309T070000
END:DAYLIGHT
BEGIN:STANDARD
TZOFFSETFROM:-0400
TZOFFSETTO:-0500
TZNAME:EST
DTSTART:20251102T060000
END:STANDARD
BEGIN:DAYLIGHT
TZOFFSETFROM:-0500
TZOFFSETTO:-0400
TZNAME:EDT
DTSTART:20260308T070000
END:DAYLIGHT
BEGIN:STANDARD
TZOFFSETFROM:-0400
TZOFFSETTO:-0500
TZNAME:EST
DTSTART:20261101T060000
END:STANDARD
END:VTIMEZONE
BEGIN:VEVENT
DTSTART;TZID=America/Detroit:20251003T180000
DTEND;TZID=America/Detroit:20251003T200000
DTSTAMP:20260422T005456
CREATED:20250918T110015Z
LAST-MODIFIED:20250918T110015Z
UID:3047-1759514400-1759521600@kalamazoopoetryfestival.com
SUMMARY:Fire First Friday Open Mic
DESCRIPTION: It’s that time again! Join us for First Fridays Open Mic in collaboration with @kzpoetryfestival  featuring the incredible Sypher as our feature artist! Friday\, October 3rd Fire\, 1249 Portage St 6–8 PMBring your poetry\, your art\, your music—or just come enjoy the community vibes. Open to all!
URL:https://kalamazoopoetryfestival.com/event/fire-first-friday-open-mic/
LOCATION:Fire Historical and Cultural Arts Collaborative\, 1249 Portage Street\, Kalamazoo\, MI\, 49001\, United States
ATTACH;FMTTYPE=image/jpeg:https://kalamazoopoetryfestival.com/wp-content/uploads/2025/09/547414738_18520897327034648_4049898184871020104_n.jpg
END:VEVENT
BEGIN:VEVENT
DTSTART;TZID=America/Detroit:20251003T180000
DTEND;TZID=America/Detroit:20251003T200000
DTSTAMP:20260422T005456
CREATED:20250929T095304Z
LAST-MODIFIED:20250929T095304Z
UID:3060-1759514400-1759521600@kalamazoopoetryfestival.com
SUMMARY:Poetry and Potions
DESCRIPTION:The words return\, the music flows\, and the cocktails are waiting.\nJoin us at Green Door Distilling for an evening of poetry\, live performance\, and community connection. \nFriday\, October 3rd\n6:00–8:00 PM \nCome ready to share your own work at the open mic\, enjoy crafted drinks\, and connect with Kalamazoo’s vibrant creative community.
URL:https://kalamazoopoetryfestival.com/event/poetry-and-potions-2/
LOCATION:Green Door Distilling Co & Tasting Room\, 429 E North St\, Kalamazoo\, MI\, 49007-5007\, United States
ATTACH;FMTTYPE=image/png:https://kalamazoopoetryfestival.com/wp-content/uploads/2025/09/Screenshot-2025-09-29-055101.png
END:VEVENT
END:VCALENDAR