BEGIN:VCALENDAR
VERSION:2.0
PRODID:-//Kalamazoo Poetry Festival - ECPv6.15.17.1//NONSGML v1.0//EN
CALSCALE:GREGORIAN
METHOD:PUBLISH
X-WR-CALNAME:Kalamazoo Poetry Festival
X-ORIGINAL-URL:https://kalamazoopoetryfestival.com
X-WR-CALDESC:Events for Kalamazoo Poetry Festival
REFRESH-INTERVAL;VALUE=DURATION:PT1H
X-Robots-Tag:noindex
X-PUBLISHED-TTL:PT1H
BEGIN:VTIMEZONE
TZID:America/Detroit
BEGIN:DAYLIGHT
TZOFFSETFROM:-0500
TZOFFSETTO:-0400
TZNAME:EDT
DTSTART:20240310T070000
END:DAYLIGHT
BEGIN:STANDARD
TZOFFSETFROM:-0400
TZOFFSETTO:-0500
TZNAME:EST
DTSTART:20241103T060000
END:STANDARD
BEGIN:DAYLIGHT
TZOFFSETFROM:-0500
TZOFFSETTO:-0400
TZNAME:EDT
DTSTART:20250309T070000
END:DAYLIGHT
BEGIN:STANDARD
TZOFFSETFROM:-0400
TZOFFSETTO:-0500
TZNAME:EST
DTSTART:20251102T060000
END:STANDARD
BEGIN:DAYLIGHT
TZOFFSETFROM:-0500
TZOFFSETTO:-0400
TZNAME:EDT
DTSTART:20260308T070000
END:DAYLIGHT
BEGIN:STANDARD
TZOFFSETFROM:-0400
TZOFFSETTO:-0500
TZNAME:EST
DTSTART:20261101T060000
END:STANDARD
END:VTIMEZONE
BEGIN:VEVENT
DTSTART;TZID=America/Detroit:20251005T190000
DTEND;TZID=America/Detroit:20251005T220000
DTSTAMP:20260421T234307
CREATED:20250929T094632Z
LAST-MODIFIED:20250929T094632Z
UID:3055-1759690800-1759701600@kalamazoopoetryfestival.com
SUMMARY:The Void 5th Edition Fundraiser
DESCRIPTION:Kalamazoo Poetry Festival now sponsors a magazine! The Void Kalamazoo cohosts the 5th Edition Fundraiser at Factory Coffee on Frank Street\, Sunday October 5\, 2025! Come out and hear two wonderful poets who will represent KPF\, and listen to multiple bands! There will be refreshments\, and various venders as well! \nThe Poets: \nNora Kay is a poet\, collage artist\, and multi-genre musician with roots in DIY punk\, experimental noise\, and performance art. Nora Kay’s works often center on themes of emptiness\, loss\, longing\, and self reflection\, drawing on her experiences as a queer person from Florida finding her way in the Midwest. \nLipsey is a young artist from Kalamazoo who works 12-hour factory shifts by day while building his reputation as a rising hip-hop name by night. His music blends gritty storytelling with ambition\, drawing on his lived experiences.
URL:https://kalamazoopoetryfestival.com/event/the-void-5th-edition-fundraiser/
LOCATION:Factory Coffee\, 213 E Frank St\, Kalamazoo\, MI\, 49007\, United States
ATTACH;FMTTYPE=image/jpeg:https://kalamazoopoetryfestival.com/wp-content/uploads/2025/09/sponsored-by-Kalamazoo-Poetry-Festival.jpg
END:VEVENT
END:VCALENDAR