BEGIN:VCALENDAR
VERSION:2.0
PRODID:-//Kalamazoo Poetry Festival - ECPv6.15.17.1//NONSGML v1.0//EN
CALSCALE:GREGORIAN
METHOD:PUBLISH
X-ORIGINAL-URL:https://kalamazoopoetryfestival.com
X-WR-CALDESC:Events for Kalamazoo Poetry Festival
REFRESH-INTERVAL;VALUE=DURATION:PT1H
X-Robots-Tag:noindex
X-PUBLISHED-TTL:PT1H
BEGIN:VTIMEZONE
TZID:America/Detroit
BEGIN:DAYLIGHT
TZOFFSETFROM:-0500
TZOFFSETTO:-0400
TZNAME:EDT
DTSTART:20250309T070000
END:DAYLIGHT
BEGIN:STANDARD
TZOFFSETFROM:-0400
TZOFFSETTO:-0500
TZNAME:EST
DTSTART:20251102T060000
END:STANDARD
BEGIN:DAYLIGHT
TZOFFSETFROM:-0500
TZOFFSETTO:-0400
TZNAME:EDT
DTSTART:20260308T070000
END:DAYLIGHT
BEGIN:STANDARD
TZOFFSETFROM:-0400
TZOFFSETTO:-0500
TZNAME:EST
DTSTART:20261101T060000
END:STANDARD
BEGIN:DAYLIGHT
TZOFFSETFROM:-0500
TZOFFSETTO:-0400
TZNAME:EDT
DTSTART:20270314T070000
END:DAYLIGHT
BEGIN:STANDARD
TZOFFSETFROM:-0400
TZOFFSETTO:-0500
TZNAME:EST
DTSTART:20271107T060000
END:STANDARD
END:VTIMEZONE
BEGIN:VEVENT
DTSTART;TZID=America/Detroit:20260312T190000
DTEND;TZID=America/Detroit:20260312T220000
DTSTAMP:20260421T125926
CREATED:20260210T132717Z
LAST-MODIFIED:20260210T132717Z
UID:3173-1773342000-1773352800@kalamazoopoetryfestival.com
SUMMARY:Son of The White Mare Film Screening
DESCRIPTION:Thanks to Kalamazoo Poetry Festival for sponsoring this film!\nArrive when doors open for a pre-show that mixes poetry and film\, just like Son of the White Mare! Thanks to our collaboration with Kalamazoo Poetry Festival\, we’ll have a celebration of both art forms\, including live performances and collaborative writing of poems by attendees.\nPurchase tickets using the link.\n\nReaders:\nMia Hawkins\nBio: Hello\, I am Mimi Hawkins\, a poet and writer\, who weaves the dramatic lens of life I live into everything I write. My style is a stream of consciousness style\, jumping through vivid daydreams as a way of understanding\, which is paired with bluntness that rips through the figurative language\, grounding everything.\n\nElizabeth Bullmer\nBio: Elizabeth Bullmer is a poet/writer/spoken word and visual artist working as a self-employed\, licensed massage and sound therapist\, in Kalamazoo. She also facilitates writing workshops and small sharing circles for all ages. Bullmer’s most recent publication is a poetry chapbook\, Skipping Stones on the River Styx.\n\n\nOne of the great psychedelic masterpieces of world animation\, Son of the White Mare is a swirling\, color-mad maelstrom of mythic monsters and Scythian heroes\, lit by jagged bolts of lightning and drenched in rivers of blue\, red\, gold and green. A massive cosmic oak stands at the gates of the Underworld\, holding seventy-seven dragons in its roots; to combat these monsters\, a dazzling white mare goddess gives birth to three heroes – Treeshaker and his brothers – who embark on an epic journey to save the universe. Directed by Hungarian animator Marcell Jankovics (famed for his 1974 Oscar-nominated short Sisyphus)\, Son of the White Mare has been restored in 4K using the original 35mm camera negative and sound elements by Arbelos in collaboration with the Hungarian National Film Institute. \n“Once upon a time\, at the doors of Hell\, there stood a tall turkey oak. It had 77 roots and 77 branches. On the 77 roots stood 77 dragons. On the 77 branches sat 77 crows. Let the one who doesn’t listen to this tale have their soul stolen by the 77 dragons\, and their eyes pecked by the 77 crows!” \nSon of the White Mare \n1981\n1h 26min\nDirector: Marcell Jankovics\nWriter: Laszlo Gyorgy\, Marcell Jankovics\nCast: Gyorgy Cserhalmi\, Vera Pap\, Gyula Szabo
URL:https://kalamazoopoetryfestival.com/event/son-of-the-white-mare-film-screening/
LOCATION:Doormouse Theatre\, 1030 Portage Street\, Kalamazoo\, MI\, 49001\, United States
ATTACH;FMTTYPE=image/jpeg:https://kalamazoopoetryfestival.com/wp-content/uploads/2026/02/Monoform20261-1.jpg
END:VEVENT
END:VCALENDAR