BEGIN:VCALENDAR
VERSION:2.0
PRODID:-//Kalamazoo Poetry Festival - ECPv6.15.17.1//NONSGML v1.0//EN
CALSCALE:GREGORIAN
METHOD:PUBLISH
X-ORIGINAL-URL:https://kalamazoopoetryfestival.com
X-WR-CALDESC:Events for Kalamazoo Poetry Festival
REFRESH-INTERVAL;VALUE=DURATION:PT1H
X-Robots-Tag:noindex
X-PUBLISHED-TTL:PT1H
BEGIN:VTIMEZONE
TZID:America/Detroit
BEGIN:DAYLIGHT
TZOFFSETFROM:-0500
TZOFFSETTO:-0400
TZNAME:EDT
DTSTART:20250309T070000
END:DAYLIGHT
BEGIN:STANDARD
TZOFFSETFROM:-0400
TZOFFSETTO:-0500
TZNAME:EST
DTSTART:20251102T060000
END:STANDARD
BEGIN:DAYLIGHT
TZOFFSETFROM:-0500
TZOFFSETTO:-0400
TZNAME:EDT
DTSTART:20260308T070000
END:DAYLIGHT
BEGIN:STANDARD
TZOFFSETFROM:-0400
TZOFFSETTO:-0500
TZNAME:EST
DTSTART:20261101T060000
END:STANDARD
BEGIN:DAYLIGHT
TZOFFSETFROM:-0500
TZOFFSETTO:-0400
TZNAME:EDT
DTSTART:20270314T070000
END:DAYLIGHT
BEGIN:STANDARD
TZOFFSETFROM:-0400
TZOFFSETTO:-0500
TZNAME:EST
DTSTART:20271107T060000
END:STANDARD
END:VTIMEZONE
BEGIN:VEVENT
DTSTART;TZID=America/Detroit:20260328T190000
DTEND;TZID=America/Detroit:20260328T203000
DTSTAMP:20260421T122648
CREATED:20260316T023422Z
LAST-MODIFIED:20260316T023422Z
UID:3192-1774724400-1774729800@kalamazoopoetryfestival.com
SUMMARY:Poets in Print- Katy Didden and Samyak Shertok
DESCRIPTION:Poets in Print sponsored by Kalamazoo Poetry Festival\nKaty Didden and Samyak Shertok\n\n\n\n\nSaturday\, March 28\, 2026\n\n\n\n\n\n\n\n\n\n\nIn person at the KBAC Gallery 7:00 p.m.\n \n\n\n\n\n\n\n\n \n \n\nKaty Didden is the author of The Glacier’s Wake (Pleiades Press\, 2013) and Ore Choir: The Lava on Iceland (Tupelo Press\, 2022). Her poems and essays appear in journals such as Poetry Northwest\, Ecotone\, 32 Poems\, Diagram\, The Sewanee Review\, and The Kenyon Review\, and she is one of the co-creators of Almanac for the Beyond (Tropic Editions\, 2019). She is an associate professor at Ball State University where she directs the Creative Writing Program and teaches poetry workshops and Creative Writing and the Environment.\n\n\n\n\n\n\n\n\n\n\n\n \n \n\nSamyak Shertok’s debut collection\, No Rhododendron\, was selected by Kimiko Hahn for the 2024 AWP Donald Hall Prize for Poetry and is forthcoming from the University of Pittsburgh Press (Pitt Poetry Series) in 2025. His poems appear in The Cincinnati Review\, The Gettysburg Review\, The Iowa Review\, The Kenyon Review\, POETRY\, Shenandoah\, Best New Poets\, and elsewhere. His honors include the Robert and Adele Schiff Award for Poetry\, the Gulf Coast Prize in Poetry\, and the Auburn Witness Poetry Prize. Originally from Nepal\, he was the inaugural Hughes Fellow in Poetry at Southern Methodist University and teaches creative writing at Hendrix College. For more\, please visit samyakshertok.com.
URL:https://kalamazoopoetryfestival.com/event/poets-in-print-katy-didden-and-samyak-shertok/
LOCATION:Kalamazoo Book Arts Center\, 326 W. Kalamazoo Avenue\, Kalamazoo\, MI\, 49007\, United States
ATTACH;FMTTYPE=image/jpeg:https://kalamazoopoetryfestival.com/wp-content/uploads/2026/03/642125171_18346963180238988_7203693902744741781_n.jpg
END:VEVENT
END:VCALENDAR