BEGIN:VCALENDAR
VERSION:2.0
PRODID:-//Kalamazoo Poetry Festival - ECPv6.15.17.1//NONSGML v1.0//EN
CALSCALE:GREGORIAN
METHOD:PUBLISH
X-ORIGINAL-URL:https://kalamazoopoetryfestival.com
X-WR-CALDESC:Events for Kalamazoo Poetry Festival
REFRESH-INTERVAL;VALUE=DURATION:PT1H
X-Robots-Tag:noindex
X-PUBLISHED-TTL:PT1H
BEGIN:VTIMEZONE
TZID:America/Detroit
BEGIN:DAYLIGHT
TZOFFSETFROM:-0500
TZOFFSETTO:-0400
TZNAME:EDT
DTSTART:20250309T070000
END:DAYLIGHT
BEGIN:STANDARD
TZOFFSETFROM:-0400
TZOFFSETTO:-0500
TZNAME:EST
DTSTART:20251102T060000
END:STANDARD
BEGIN:DAYLIGHT
TZOFFSETFROM:-0500
TZOFFSETTO:-0400
TZNAME:EDT
DTSTART:20260308T070000
END:DAYLIGHT
BEGIN:STANDARD
TZOFFSETFROM:-0400
TZOFFSETTO:-0500
TZNAME:EST
DTSTART:20261101T060000
END:STANDARD
BEGIN:DAYLIGHT
TZOFFSETFROM:-0500
TZOFFSETTO:-0400
TZNAME:EDT
DTSTART:20270314T070000
END:DAYLIGHT
BEGIN:STANDARD
TZOFFSETFROM:-0400
TZOFFSETTO:-0500
TZNAME:EST
DTSTART:20271107T060000
END:STANDARD
END:VTIMEZONE
BEGIN:VEVENT
DTSTART;TZID=America/Detroit:20260403T180000
DTEND;TZID=America/Detroit:20260403T200000
DTSTAMP:20260421T110814
CREATED:20260321T033513Z
LAST-MODIFIED:20260321T033513Z
UID:3220-1775239200-1775246400@kalamazoopoetryfestival.com
SUMMARY:Fire First Friday Open Mic PART ONE
DESCRIPTION:JOIN EGYPTRINITY AND HOST QUINCY ELLIS \nfor the Fire First Friday Open Mic\, which is the Part One open mic for the Kalamazoo Poetry Festival Week! Doors Open at 5:30pm\, and sign up happens in-person. Come on out! \nPart Two Open Mic takes place on April 10\, at Fire\, hosted by Dane Hudson. The Your Turn Open Mic!
URL:https://kalamazoopoetryfestival.com/event/fire-first-friday-open-mic-part-one/
LOCATION:Fire Historical and Cultural Arts Collaborative\, 1249 Portage Street\, Kalamazoo\, MI\, 49001\, United States
ATTACH;FMTTYPE=image/jpeg:https://kalamazoopoetryfestival.com/wp-content/uploads/2026/03/3CFC8F4A-6789-40A9-B18F-C072E2590DCA.jpg
END:VEVENT
END:VCALENDAR