BEGIN:VCALENDAR
VERSION:2.0
PRODID:-//Kalamazoo Poetry Festival - ECPv6.15.17.1//NONSGML v1.0//EN
CALSCALE:GREGORIAN
METHOD:PUBLISH
X-ORIGINAL-URL:https://kalamazoopoetryfestival.com
X-WR-CALDESC:Events for Kalamazoo Poetry Festival
REFRESH-INTERVAL;VALUE=DURATION:PT1H
X-Robots-Tag:noindex
X-PUBLISHED-TTL:PT1H
BEGIN:VTIMEZONE
TZID:America/Detroit
BEGIN:DAYLIGHT
TZOFFSETFROM:-0500
TZOFFSETTO:-0400
TZNAME:EDT
DTSTART:20250309T070000
END:DAYLIGHT
BEGIN:STANDARD
TZOFFSETFROM:-0400
TZOFFSETTO:-0500
TZNAME:EST
DTSTART:20251102T060000
END:STANDARD
BEGIN:DAYLIGHT
TZOFFSETFROM:-0500
TZOFFSETTO:-0400
TZNAME:EDT
DTSTART:20260308T070000
END:DAYLIGHT
BEGIN:STANDARD
TZOFFSETFROM:-0400
TZOFFSETTO:-0500
TZNAME:EST
DTSTART:20261101T060000
END:STANDARD
BEGIN:DAYLIGHT
TZOFFSETFROM:-0500
TZOFFSETTO:-0400
TZNAME:EDT
DTSTART:20270314T070000
END:DAYLIGHT
BEGIN:STANDARD
TZOFFSETFROM:-0400
TZOFFSETTO:-0500
TZNAME:EST
DTSTART:20271107T060000
END:STANDARD
END:VTIMEZONE
BEGIN:VEVENT
DTSTART;TZID=America/Detroit:20260410T190000
DTEND;TZID=America/Detroit:20260410T210000
DTSTAMP:20260421T113026
CREATED:20260210T133138Z
LAST-MODIFIED:20260210T133353Z
UID:3176-1775847600-1775854800@kalamazoopoetryfestival.com
SUMMARY:Your Turn Open Mic
DESCRIPTION:Emcee Dane joins us again for the Your Turn Open Mic at Fire on Portage Road. We are splitting the open mic up into two weeks this year\, because of how popular it was last year! Sign up will be in person at the event\, and we welcome all poetry\, acoustic music\, micro fiction\, and fiction excerpts. Each performer will have five minutes on the mic. \nThere will be refreshments\, and good company. Come on out and show Kalamazoo your creativity! \nDoors and sign up open: 6:30pm \nShow starts:7pm
URL:https://kalamazoopoetryfestival.com/event/your-turn-open-mic/
LOCATION:Fire Historical and Cultural Arts Collaborative\, 1249 Portage Street\, Kalamazoo\, MI\, 49001\, United States
ATTACH;FMTTYPE=image/jpeg:https://kalamazoopoetryfestival.com/wp-content/uploads/2026/02/FINALE-READING-1.jpg
END:VEVENT
END:VCALENDAR