BEGIN:VCALENDAR
VERSION:2.0
PRODID:-//Kalamazoo Poetry Festival - ECPv6.15.17.1//NONSGML v1.0//EN
CALSCALE:GREGORIAN
METHOD:PUBLISH
X-WR-CALNAME:Kalamazoo Poetry Festival
X-ORIGINAL-URL:https://kalamazoopoetryfestival.com
X-WR-CALDESC:Events for Kalamazoo Poetry Festival
REFRESH-INTERVAL;VALUE=DURATION:PT1H
X-Robots-Tag:noindex
X-PUBLISHED-TTL:PT1H
BEGIN:VTIMEZONE
TZID:America/Detroit
BEGIN:DAYLIGHT
TZOFFSETFROM:-0500
TZOFFSETTO:-0400
TZNAME:EDT
DTSTART:20250309T070000
END:DAYLIGHT
BEGIN:STANDARD
TZOFFSETFROM:-0400
TZOFFSETTO:-0500
TZNAME:EST
DTSTART:20251102T060000
END:STANDARD
BEGIN:DAYLIGHT
TZOFFSETFROM:-0500
TZOFFSETTO:-0400
TZNAME:EDT
DTSTART:20260308T070000
END:DAYLIGHT
BEGIN:STANDARD
TZOFFSETFROM:-0400
TZOFFSETTO:-0500
TZNAME:EST
DTSTART:20261101T060000
END:STANDARD
BEGIN:DAYLIGHT
TZOFFSETFROM:-0500
TZOFFSETTO:-0400
TZNAME:EDT
DTSTART:20270314T070000
END:DAYLIGHT
BEGIN:STANDARD
TZOFFSETFROM:-0400
TZOFFSETTO:-0500
TZNAME:EST
DTSTART:20271107T060000
END:STANDARD
END:VTIMEZONE
BEGIN:VEVENT
DTSTART;TZID=America/Detroit:20260411T170000
DTEND;TZID=America/Detroit:20260411T190000
DTSTAMP:20260422T175119
CREATED:20260123T213314Z
LAST-MODIFIED:20260123T213314Z
UID:3153-1775926800-1775934000@kalamazoopoetryfestival.com
SUMMARY:Finale Poetry Reading and Reception
DESCRIPTION:RSVP IS NOT REQUIRED BUT IT IS APPRECIATED! RSVP HERE: https://www.eventbrite.com/e/finale-reception-kalamazoo-poetry-festival-tickets-1981453153722?utm-campaign=social&utm-content=attendeeshare&utm-medium=discovery&utm-term=listing&utm-source=cp&aff=ebdsshcopyurl\n\nYOU CAN ALSO FIND THE FACEBOOK EVENT HERE: https://www.facebook.com/share/17sdo9JWH2/\n\n\nHelp the Kalamazoo Poetry Festival welcome our 2026 featured poets jessica Care moore and Alen Hamza. This year\, we will be hosted by the wonderful folks at the Wellspring Dance Company\, in their Cori Terry Theatre. The theatre will house our Finale Reading\, and then we will head downstairs to the Black Arts and Cultural Center for the catered reception. \nThe Finale poetry reading will be ASL interpreted\, please spread the word! \nParking information has been made available in the information section of this event. Please read it carefully\, yes\, it is possible to park downtown! The Epic Center is conveniently located near two parking structures\, and there is street parking available. \nYou can read more about our poets below. \njessica Care moore: \njessica Care moore is an award-winning poet\, recording artist\, book publisher\, activist\, cultural arts curator\, and filmmaker who has become one of the leading voices of her generation; she is Detroit’s Poet Laureate (appointed in 2024)\, the Executive Producer and Founder of the 20-year-old rock & roll concert and empowerment weekend Daughters of Betty – Powered by Black WOMEN Rock!\, founder of The Moore Art House 501(c)(3)\, and the founder of Moore Black Press\, which has published poets including Saul Williams\, Newark Mayor Ras Baraka\, asha bandele\, and Danny Simmons; she has recorded her poetry with Hip Hop legends like Common\, Nas\, Jeezy\, Talib Kweli\, Karriem Riggins\, Jeff Mills\, The Last Poets\, Jose James\, and Roy Ayers\, is the author of *The Words Don’t Fit in My Mouth*\, *The Alphabet Verses The Ghetto*\, *God is Not an American*\, *Sunlight Through Bullet Holes* and *We Want Our Bodies Back*\, and her poetry and voice are featured on the 4th floor of the Smithsonian’s New National Museum of African American History. \nAlen Hamza: \nAlen Hamza immigrated to the United States from Bosnia-Herzegovina as a refugee at the age of fifteen. He is the author of Twice There Was a Country\, chosen by Brenda Hillman as the winner of the CSU Poetry Center First Book Award. His poems have appeared widely in literary journals\, including AGNI\, The Southern Review\, Waxwing\, Fence\, and The Missouri Review. He has an MFA from the Michener Center for Writers at the University of Texas at Austin and a PhD in Literature and Creative Writing from the University of Utah. He has received fellowships from the Michener Center for Writers\, the Fine Arts Work Center in Provincetown\, and the University of Utah. Hamza lives in Kalamazoo\, where he is an assistant professor of English and Creative Writing at Western Michigan University.
URL:https://kalamazoopoetryfestival.com/event/finale-poetry-reading-and-reception/
LOCATION:Epic Center\, 359 S Kalamazoo Mall\, Kalamazoo\, MI\, 49007\, United States
ATTACH;FMTTYPE=image/jpeg:https://kalamazoopoetryfestival.com/wp-content/uploads/2026/01/IMG_0978-1.jpg
END:VEVENT
BEGIN:VEVENT
DTSTART;TZID=America/Detroit:20260429T180000
DTEND;TZID=America/Detroit:20260429T193000
DTSTAMP:20260422T175119
CREATED:20260416T192026Z
LAST-MODIFIED:20260416T192026Z
UID:3269-1777485600-1777491000@kalamazoopoetryfestival.com
SUMMARY:In Our Own Words\, Gateway Youth Poetry Reading
DESCRIPTION:Join us for an evening celebrating the poetry of young folks! \nHosted by the Richland Community Library\, emcee Elizabeth Kerlikowske!
URL:https://kalamazoopoetryfestival.com/event/in-our-own-words-gateway-youth-poetry-reading/
LOCATION:Richland Community Library\, 8951 Park St\, Richland\, MI\, 49083\, United States
ATTACH;FMTTYPE=image/jpeg:https://kalamazoopoetryfestival.com/wp-content/uploads/2026/04/Flyer-KPF-Gateway-Poetry-Night-2_page-0001.jpg
END:VEVENT
END:VCALENDAR