BEGIN:VCALENDAR
VERSION:2.0
PRODID:-//Kalamazoo Poetry Festival - ECPv6.15.17.1//NONSGML v1.0//EN
CALSCALE:GREGORIAN
METHOD:PUBLISH
X-WR-CALNAME:Kalamazoo Poetry Festival
X-ORIGINAL-URL:https://kalamazoopoetryfestival.com
X-WR-CALDESC:Events for Kalamazoo Poetry Festival
REFRESH-INTERVAL;VALUE=DURATION:PT1H
X-Robots-Tag:noindex
X-PUBLISHED-TTL:PT1H
BEGIN:VTIMEZONE
TZID:America/Detroit
BEGIN:DAYLIGHT
TZOFFSETFROM:-0500
TZOFFSETTO:-0400
TZNAME:EDT
DTSTART:20240310T070000
END:DAYLIGHT
BEGIN:STANDARD
TZOFFSETFROM:-0400
TZOFFSETTO:-0500
TZNAME:EST
DTSTART:20241103T060000
END:STANDARD
BEGIN:DAYLIGHT
TZOFFSETFROM:-0500
TZOFFSETTO:-0400
TZNAME:EDT
DTSTART:20250309T070000
END:DAYLIGHT
BEGIN:STANDARD
TZOFFSETFROM:-0400
TZOFFSETTO:-0500
TZNAME:EST
DTSTART:20251102T060000
END:STANDARD
BEGIN:DAYLIGHT
TZOFFSETFROM:-0500
TZOFFSETTO:-0400
TZNAME:EDT
DTSTART:20260308T070000
END:DAYLIGHT
BEGIN:STANDARD
TZOFFSETFROM:-0400
TZOFFSETTO:-0500
TZNAME:EST
DTSTART:20261101T060000
END:STANDARD
END:VTIMEZONE
BEGIN:VEVENT
DTSTART;TZID=America/Detroit:20250107T183000
DTEND;TZID=America/Detroit:20250107T200000
DTSTAMP:20260422T112644
CREATED:20240924T175917Z
LAST-MODIFIED:20250102T002428Z
UID:2550-1736274600-1736280000@kalamazoopoetryfestival.com
SUMMARY:January Workshop: Tasleem Jamila\, Echoes of Abundance: A Journey Through Sound and Poetic Affirmation
DESCRIPTION:January Workshop \nFREE Tickets are first come first serve\, they can be reserved once the Eventbrite page becomes available in late November. \nFacilitator: \nTasleem Jamila  \nWorkshop Title:  \nEchoes of Abundance: A Journey Through Sound and Poetic Affirmation \nWorkshop Description: \nEchoes of Abundance invites participants to immerse themselves in the healing frequencies of gratitude through sound\, voice\, and poetic affirmation. Using rhythmic breathwork\, vocal toning\, and guided soundscapes\, we’ll explore how gratitude\, expressed through words and music\, amplifies abundance and raises our energetic vibration. Participants will create and share their poetic affirmation songs\, embracing how the power of repetitive\, gratitude-infused chants can foster inner healing and connection. We’ll harmonize our voices in communal chants\, cultivating a resonant space for personal and collective transformation. \nNote: \nThis is an in-person workshop. Writing utensils and paper will be provided. Water and Coffee will also be available at the event. Please arrive several minutes early\, so the workshop can start promptly on time. \nAccessibility: \n– This even strives to be SCENT-FREE. Please consider leaving perfumes and fragrances at home. \n			\n				Register Here
URL:https://kalamazoopoetryfestival.com/event/workshop-2/
LOCATION:First Congregational Church\, 345 W Michigan Ave\, Kalamazoo\, MI\, 49007\, United States
ATTACH;FMTTYPE=image/jpeg:https://kalamazoopoetryfestival.com/wp-content/uploads/2024/09/IMG_0190-1-scaled.jpg
END:VEVENT
BEGIN:VEVENT
DTSTART;TZID=America/Detroit:20250116T180000
DTEND;TZID=America/Detroit:20250116T200000
DTSTAMP:20260422T112644
CREATED:20240924T180224Z
LAST-MODIFIED:20241126T130408Z
UID:2552-1737050400-1737057600@kalamazoopoetryfestival.com
SUMMARY:Community Read and Mixer
DESCRIPTION:Community Read and Mixer \nThis event functions similar to an open mic in the way that there will be a sign-up sheet at the beginning of the event\, and each reader will have 3-5 minutes to read a piece. The catch is that this piece must be a work in progress. The Emcee will introduce every reader by their name\, and the reader will be instructed to give no preface to the work. The works in progress that are read will be the attendees only introduction to each other for the mixer portion. There will be light refreshments\, and a DJ at this event.The sign-up to read will be in-person at the event. Doors open at 5:30pm. Come early if you want to sign up! There is a strict 3.5 minute reading time\, so please do not preface your work. Choose your piece (or portion of piece) carefully! Show us what you got! \nEmcees:Casey Grooten and Elizabeth KerlikowskeHosted by: BACC\, NACD\, and KPF \nAccessibility:– This even strives to be SCENT-FREE. Please consider leaving perfumes and fragrances at home. \n  \n			\n				RSVP For The Event
URL:https://kalamazoopoetryfestival.com/event/community-read-and-mixer/
LOCATION:Northside Association for Community Development\, 612 N Park St\, Kalamazoo\, MI\, 49007\, United States
ATTACH;FMTTYPE=image/jpeg:https://kalamazoopoetryfestival.com/wp-content/uploads/2024/09/EventPromoSquare.jpg
END:VEVENT
END:VCALENDAR