BEGIN:VCALENDAR
VERSION:2.0
PRODID:-//Kalamazoo Poetry Festival - ECPv6.15.17.1//NONSGML v1.0//EN
CALSCALE:GREGORIAN
METHOD:PUBLISH
X-WR-CALNAME:Kalamazoo Poetry Festival
X-ORIGINAL-URL:https://kalamazoopoetryfestival.com
X-WR-CALDESC:Events for Kalamazoo Poetry Festival
REFRESH-INTERVAL;VALUE=DURATION:PT1H
X-Robots-Tag:noindex
X-PUBLISHED-TTL:PT1H
BEGIN:VTIMEZONE
TZID:America/Detroit
BEGIN:DAYLIGHT
TZOFFSETFROM:-0500
TZOFFSETTO:-0400
TZNAME:EDT
DTSTART:20240310T070000
END:DAYLIGHT
BEGIN:STANDARD
TZOFFSETFROM:-0400
TZOFFSETTO:-0500
TZNAME:EST
DTSTART:20241103T060000
END:STANDARD
BEGIN:DAYLIGHT
TZOFFSETFROM:-0500
TZOFFSETTO:-0400
TZNAME:EDT
DTSTART:20250309T070000
END:DAYLIGHT
BEGIN:STANDARD
TZOFFSETFROM:-0400
TZOFFSETTO:-0500
TZNAME:EST
DTSTART:20251102T060000
END:STANDARD
BEGIN:DAYLIGHT
TZOFFSETFROM:-0500
TZOFFSETTO:-0400
TZNAME:EDT
DTSTART:20260308T070000
END:DAYLIGHT
BEGIN:STANDARD
TZOFFSETFROM:-0400
TZOFFSETTO:-0500
TZNAME:EST
DTSTART:20261101T060000
END:STANDARD
END:VTIMEZONE
BEGIN:VEVENT
DTSTART;TZID=America/Detroit:20250208T150000
DTEND;TZID=America/Detroit:20250208T180000
DTSTAMP:20260422T094901
CREATED:20240924T180627Z
LAST-MODIFIED:20241126T134024Z
UID:2557-1739026800-1739037600@kalamazoopoetryfestival.com
SUMMARY:Ekphrastic Poetry and Art Making Event
DESCRIPTION:Ekphrastic Poetry Event \nCome make artwork inspired by the theme “Gratitude”. KPF is so grateful for our Kalamazoo community\, and is excited to see what you create! This event is hosted by Dream Scene Placemaking of Kalamazoo at Move With Joy Studio\, and sponsored by Kalamazoo Poetry Festival. \nDreamscene will be facilitating art making\, and will be providing the art making materials. Once the artwork is made\, the pieces will be scanned or photographed and sent to a community poetry organization in Kalamazoo called Friend of Poetry to inspire their writing of our Community Poem. This poem will be read at the Celebration of Community Poets in April. The artwork (from those who consent) will be displayed at the same event. The event will offer light refreshments.  \nAccessibility: \n– This even strives to be SCENT-FREE. Please consider leaving perfumes and fragrances at home. \nCo-Hosted By: \nDreamscene Placemaking and Move With Joy
URL:https://kalamazoopoetryfestival.com/event/ekphrastic-poetry-and-art-making-event/
LOCATION:Move With Joy\, 1103 Portage St\, Kalamazoo\, MI\, 49001\, United States
ATTACH;FMTTYPE=image/jpeg:https://kalamazoopoetryfestival.com/wp-content/uploads/2024/09/IMG_0316-1-1-scaled.jpg
END:VEVENT
BEGIN:VEVENT
DTSTART;TZID=America/Detroit:20250211T183000
DTEND;TZID=America/Detroit:20250211T200000
DTSTAMP:20260422T094901
CREATED:20240924T180351Z
LAST-MODIFIED:20250102T002512Z
UID:2555-1739298600-1739304000@kalamazoopoetryfestival.com
SUMMARY:February Workshop: Sarah Steele\, For Those Who Have Walked Beside Us
DESCRIPTION:February Workshop \nFREE Tickets are first come first serve\, they can be reserved once the Eventbrite page becomes available in late November. \nFacilitator: \nSarah Steele \nWorkshop Name: \nFor Those Who Have Walked Beside Us \nWorkshop Description: \nWho walked beside you when life felt heavy? Who made you feel seen\, heard\, or understood in ways that changed your heart? Who guided your steps\, or simply stood with you in silence? \nIn this workshop\, we will explore the power of gratitude through poetry\, reflecting on those who have been our support in times of need. Through a process of personal writing\, we’ll uncover the metaphors that best capture the impact of these pivotal relationships. This experience will invite you to express your appreciation in a deeply personal way\, tapping into emotions of gratitude and connection. Together\, we’ll transform these reflections into poems\, and then bring them to life by writing them out on beautiful cards—so that you can share your words of thanks with the person who has made a difference in your life. Come prepared to honor the past\, celebrate the present\, and create something meaningful to share with someone who matters. \nNote: \nThis is an in-person workshop. Writing utensils and paper will be provided. Water and Coffee will also be available at the event. Please arrive several minutes early\, so the workshop can start promptly on time. \nAccessibility: \n– This even strives to be SCENT-FREE. Please consider leaving perfumes and fragrances at home. \n			\n				Register Here
URL:https://kalamazoopoetryfestival.com/event/workshop-3/
LOCATION:Northside Association for Community Development\, 612 N Park St\, Kalamazoo\, MI\, 49007\, United States
ATTACH;FMTTYPE=image/jpeg:https://kalamazoopoetryfestival.com/wp-content/uploads/2024/09/SarahSteele-scaled.jpg
END:VEVENT
END:VCALENDAR